Workbook

Sheet Demographics
AG12: Input student data
AG13: page
AA21: Current Services
AA22: Check all the apply

Sheet Behaviordata
M8: Please enter the dates and check-sheet total points
B9: Dates: | G9: Check Sheet Points | N9: Benchmark
U19: Go to Report Page
U26: Return to Demographics page
B27: If the student is
B28: absent, leave the
B29: cell blank
B33: Month | G33: Number of Referrals
B42: Date | F42: Frequency
M44: Example: call outs, out of seat, hitting, etc

Sheet Data
A2: Data | C2: Check Sheet Points | E2: Benchmark
A3: =Behaviordata!B10 -> 0 | C3: =Behaviordata!G10 -> 0 | E3: =Behaviordata!N10 -> 0
A4: =Behaviordata!B11 -> 0 | C4: =Behaviordata!G11 -> 0 | E4: =Behaviordata!N11 -> 0
A5: =Behaviordata!B12 -> 0 | C5: =Behaviordata!G12 -> 0 | E5: =Behaviordata!N12 -> 0
A6: =Behaviordata!B13 -> 0 | C6: =Behaviordata!G13 -> 0 | E6: =Behaviordata!N13 -> 0
A7: =Behaviordata!B14 -> 0 | C7: =Behaviordata!G14 -> 0 | E7: =Behaviordata!N14 -> 0
A8: =Behaviordata!B15 -> 0 | C8: =Behaviordata!G15 -> 0 | E8: =Behaviordata!N15 -> 0
A9: =Behaviordata!B16 -> 0 | C9: =Behaviordata!G16 -> 0 | E9: =Behaviordata!N16 -> 0
A10: =Behaviordata!B17 -> 0 | C10: =Behaviordata!G17 -> 0 | E10: =Behaviordata!N17 -> 0
A11: =Behaviordata!B18 -> 0 | C11: =Behaviordata!G17 -> 0 | E11: =Behaviordata!N18 -> 0
A12: =Behaviordata!B19 -> 0 | C12: =Behaviordata!G19 -> 0 | E12: =Behaviordata!N19 -> 0
A13: =Behaviordata!B20 -> 0 | C13: =Behaviordata!G20 -> 0 | E13: =Behaviordata!N20 -> 0
A14: =Behaviordata!B21 -> 0 | C14: =Behaviordata!G21 -> 0 | E14: =Behaviordata!N21 -> 0
A15: =Behaviordata!B22 -> 0 | C15: =Behaviordata!G22 -> 0 | E15: =Behaviordata!N22 -> 0
A16: =Behaviordata!B23 -> 0 | C16: =Behaviordata!G23 -> 0 | E16: =Behaviordata!N23 -> 0
A17: =Behaviordata!B24 -> 0 | C17: =Behaviordata!G24 -> 0 | E17: =Behaviordata!N24 -> 0
A18: =Behaviordata!B25 -> 0 | C18: =Behaviordata!G25 -> 0 | E18: =Behaviordata!N25 -> 0
C19: =AVERAGE(C3:C18) -> 0
A24: Month | C24: Office Referrals
A25: =Behaviordata!B34 -> 0 | C25: =Behaviordata!G34 -> 0
A26: =Behaviordata!B35 -> 0 | C26: =Behaviordata!G35 -> 0
A27: =Behaviordata!B36 -> 0 | C27: =Behaviordata!G36 -> 0
C28: =AVERAGE(C25:C27) -> 0
A31: Date | C31: Frequency
A32: =Behaviordata!B43 -> 0 | C32: =Behaviordata!F43 -> 0
A33: =Behaviordata!B44 -> 0 | C33: =Behaviordata!F44 -> 0
A34: =Behaviordata!B45 -> 0 | C34: =Behaviordata!F45 -> 0

Sheet Sheet2
A1: Data | C1: FALSE | D1: =IF(C1=TRUE,"Yes","No") -> No | E1: CICO
A2: Page | C2: FALSE | D2: =IF(C2=TRUE,"Yes","No") -> No | E2: Group 30 min
C3: FALSE | D3: =IF(C3=TRUE,"Yes","No") -> No | E3: Individual 30 min
C4: FALSE | D4: =IF(C4=TRUE,"Yes","No") -> No | E4: Sensory breaks
C5: FALSE | D5: =IF(C5=TRUE,"Yes"," No") -> No | E5: First/Then Sheet
C6: FALSE | D6: =IF(C6=TRUE,"Yes","No") -> No | E6: Frequent Rewards
A11: Tier I
A12: Tier II
A13: Tier III

Sheet Welcome
H7: Education is evolving!
H9: With the onset of RTI/SRBI, decisions—both academic and behavioral—have become data-driven.
H10: Teachers and specialists need to use data to develop
H11: behavior plans, design interventions, and to progress monitor. | M11: (From Denise Wilson trackingbehavior.org)
I13: In this program you will find a tool to help simplify behavioral data collection, analysis, and reporting.
E14: Let's Begin! Click the "Home" button to begin entering student information.
F21: Eric Elias, MS Ed, Certified School Psychologist

Sheet Report
B6: Name | D6: =Demographics!G9 -> 0 | O6: Grade: | Q6: =Demographics!G13 -> 0 | AA6: Return to Demographics page
B7: Teacher: | E7: =Demographics!G21 -> 0 | O7: Age: | Q7: =Demographics!Y13 -> 0
B8: Report by: | E8: =Demographics!Y9 -> 0 | O8: Date: | Q8: =Demographics!G17 -> 0
O10: Strengths:
B11: Current Services: | O11: =Demographics!H26 -> 0
B12: =Sheet2!D1 -> No | D12: CICO | AA12: To print this document click Control "p"
B13: =Sheet2!D2 -> No | D13: Group 30 min
B14: =Sheet2!D3 -> No | D14: Individual 30 Min | O14: Behavior Concerns:
B15: =Sheet2!D4 -> No | D15: Sensory Breaks | O15: =Demographics!H30 -> 0
B16: =Sheet2!D5 -> No | D16: First/Then
B17: =Sheet2!D6 -> No | D17: Frequent Rewards
D18: ________________
B20: This report provides updated behavior data for the student based on behavior reports, | AA20: *Don't forget to print and save this report. You can click on the "Report"
B21: check sheets and observations | AA21: heading at the bottom of the page and copy into this Worksheet. It will save as Report (1)
AA22: Then rename it with the student's name or initials.
B24: Check Sheet Data | AA24: *If you want to save it electronically in another location, print as a PDF and save the file
B25: This graph demonstrates the number of days the student has earned his/her daily | AA25: to your specified file.
B26: check sheet points during the three week period.
B43: The student has earned an average of | M43: =Data!C19 -> 0 | P43: points/day over the three
B44: week period.
C52: Student Support Report | O52: Page 2
C54: Name: | E54: =Demographics!G9 -> 0
C56: Date: | E56: =Demographics!G17 -> 0
C58: Office Referrals
C59: This graph indicates the number of office referrals the sudent has had in the
C60: past three months.
C72: The student has had an average of | K72: =ROUND(Data!C28,2) -> 0 | M72: referrals/month over the past three months.
C77: Observations
C78: This graph is based on the most recent classroom observations and indicates
C79: ="how frequently the "&Behaviordata!M43&" behavior is occurring." -> how frequently the behavior is occurring.
C91: Observations were | K91: =Behaviordata!M49 -> 0
